BEGIN:VCALENDAR
VERSION:2.0
PRODID:-//Aspiring Minds Montessori - ECPv6.15.20//NONSGML v1.0//EN
CALSCALE:GREGORIAN
METHOD:PUBLISH
X-ORIGINAL-URL:https://www.aspiringmindsmontessori.com
X-WR-CALDESC:Events for Aspiring Minds Montessori
REFRESH-INTERVAL;VALUE=DURATION:PT1H
X-Robots-Tag:noindex
X-PUBLISHED-TTL:PT1H
BEGIN:VTIMEZONE
TZID:America/Chicago
BEGIN:DAYLIGHT
TZOFFSETFROM:-0600
TZOFFSETTO:-0500
TZNAME:CDT
DTSTART:20150308T080000
END:DAYLIGHT
BEGIN:STANDARD
TZOFFSETFROM:-0500
TZOFFSETTO:-0600
TZNAME:CST
DTSTART:20151101T070000
END:STANDARD
BEGIN:DAYLIGHT
TZOFFSETFROM:-0600
TZOFFSETTO:-0500
TZNAME:CDT
DTSTART:20160313T080000
END:DAYLIGHT
BEGIN:STANDARD
TZOFFSETFROM:-0500
TZOFFSETTO:-0600
TZNAME:CST
DTSTART:20161106T070000
END:STANDARD
BEGIN:DAYLIGHT
TZOFFSETFROM:-0600
TZOFFSETTO:-0500
TZNAME:CDT
DTSTART:20170312T080000
END:DAYLIGHT
BEGIN:STANDARD
TZOFFSETFROM:-0500
TZOFFSETTO:-0600
TZNAME:CST
DTSTART:20171105T070000
END:STANDARD
BEGIN:DAYLIGHT
TZOFFSETFROM:-0600
TZOFFSETTO:-0500
TZNAME:CDT
DTSTART:20180311T080000
END:DAYLIGHT
BEGIN:STANDARD
TZOFFSETFROM:-0500
TZOFFSETTO:-0600
TZNAME:CST
DTSTART:20181104T070000
END:STANDARD
BEGIN:DAYLIGHT
TZOFFSETFROM:-0600
TZOFFSETTO:-0500
TZNAME:CDT
DTSTART:20190310T080000
END:DAYLIGHT
BEGIN:STANDARD
TZOFFSETFROM:-0500
TZOFFSETTO:-0600
TZNAME:CST
DTSTART:20191103T070000
END:STANDARD
BEGIN:DAYLIGHT
TZOFFSETFROM:-0600
TZOFFSETTO:-0500
TZNAME:CDT
DTSTART:20200308T080000
END:DAYLIGHT
BEGIN:STANDARD
TZOFFSETFROM:-0500
TZOFFSETTO:-0600
TZNAME:CST
DTSTART:20201101T070000
END:STANDARD
BEGIN:DAYLIGHT
TZOFFSETFROM:-0600
TZOFFSETTO:-0500
TZNAME:CDT
DTSTART:20210314T080000
END:DAYLIGHT
BEGIN:STANDARD
TZOFFSETFROM:-0500
TZOFFSETTO:-0600
TZNAME:CST
DTSTART:20211107T070000
END:STANDARD
BEGIN:DAYLIGHT
TZOFFSETFROM:-0600
TZOFFSETTO:-0500
TZNAME:CDT
DTSTART:20220313T080000
END:DAYLIGHT
BEGIN:STANDARD
TZOFFSETFROM:-0500
TZOFFSETTO:-0600
TZNAME:CST
DTSTART:20221106T070000
END:STANDARD
BEGIN:DAYLIGHT
TZOFFSETFROM:-0600
TZOFFSETTO:-0500
TZNAME:CDT
DTSTART:20230312T080000
END:DAYLIGHT
BEGIN:STANDARD
TZOFFSETFROM:-0500
TZOFFSETTO:-0600
TZNAME:CST
DTSTART:20231105T070000
END:STANDARD
BEGIN:DAYLIGHT
TZOFFSETFROM:-0600
TZOFFSETTO:-0500
TZNAME:CDT
DTSTART:20240310T080000
END:DAYLIGHT
BEGIN:STANDARD
TZOFFSETFROM:-0500
TZOFFSETTO:-0600
TZNAME:CST
DTSTART:20241103T070000
END:STANDARD
BEGIN:DAYLIGHT
TZOFFSETFROM:-0600
TZOFFSETTO:-0500
TZNAME:CDT
DTSTART:20250309T080000
END:DAYLIGHT
BEGIN:STANDARD
TZOFFSETFROM:-0500
TZOFFSETTO:-0600
TZNAME:CST
DTSTART:20251102T070000
END:STANDARD
BEGIN:DAYLIGHT
TZOFFSETFROM:-0600
TZOFFSETTO:-0500
TZNAME:CDT
DTSTART:20260308T080000
END:DAYLIGHT
BEGIN:STANDARD
TZOFFSETFROM:-0500
TZOFFSETTO:-0600
TZNAME:CST
DTSTART:20261101T070000
END:STANDARD
BEGIN:DAYLIGHT
TZOFFSETFROM:-0600
TZOFFSETTO:-0500
TZNAME:CDT
DTSTART:20270314T080000
END:DAYLIGHT
BEGIN:STANDARD
TZOFFSETFROM:-0500
TZOFFSETTO:-0600
TZNAME:CST
DTSTART:20271107T070000
END:STANDARD
END:VTIMEZONE
BEGIN:VEVENT
DTSTART;VALUE=DATE:20260403
DTEND;VALUE=DATE:20260404
DTSTAMP:20260422T084607
CREATED:20170830T034328Z
LAST-MODIFIED:20251203T021914Z
UID:405-1775174400-1775260799@www.aspiringmindsmontessori.com
SUMMARY:Spring Frolic
DESCRIPTION:
URL:https://www.aspiringmindsmontessori.com/event/spring-frolic-2/
CATEGORIES:Children
END:VEVENT
BEGIN:VEVENT
DTSTART;VALUE=DATE:20260213
DTEND;VALUE=DATE:20260214
DTSTAMP:20260422T084607
CREATED:20170830T033808Z
LAST-MODIFIED:20251203T021824Z
UID:398-1770940800-1771027199@www.aspiringmindsmontessori.com
SUMMARY:Valentine’s Day Party
DESCRIPTION:
URL:https://www.aspiringmindsmontessori.com/event/valentines-day-party-2/
CATEGORIES:Children
END:VEVENT
BEGIN:VEVENT
DTSTART;VALUE=DATE:20251215
DTEND;VALUE=DATE:20251216
DTSTAMP:20260422T084607
CREATED:20170830T033121Z
LAST-MODIFIED:20251203T021311Z
UID:386-1765756800-1765843199@www.aspiringmindsmontessori.com
SUMMARY:Ornament Making
DESCRIPTION:
URL:https://www.aspiringmindsmontessori.com/event/ornament-making-2/
CATEGORIES:Children
END:VEVENT
BEGIN:VEVENT
DTSTART;VALUE=DATE:20231117
DTEND;VALUE=DATE:20231118
DTSTAMP:20260422T084607
CREATED:20170830T031816Z
LAST-MODIFIED:20230815T010130Z
UID:376-1700179200-1700265599@www.aspiringmindsmontessori.com
SUMMARY:Thanksgiving Lunch
DESCRIPTION:
URL:https://www.aspiringmindsmontessori.com/event/thanksgiving-lunch-2/
CATEGORIES:Children
END:VEVENT
BEGIN:VEVENT
DTSTART;VALUE=DATE:20231031
DTEND;VALUE=DATE:20231101
DTSTAMP:20260422T084607
CREATED:20170830T031628Z
LAST-MODIFIED:20230815T010046Z
UID:372-1698710400-1698796799@www.aspiringmindsmontessori.com
SUMMARY:Costume Parade
DESCRIPTION:
URL:https://www.aspiringmindsmontessori.com/event/costume-parade-2/
CATEGORIES:Children
END:VEVENT
BEGIN:VEVENT
DTSTART;VALUE=DATE:20210416
DTEND;VALUE=DATE:20210417
DTSTAMP:20260422T084607
CREATED:20170830T034617Z
LAST-MODIFIED:20200828T192621Z
UID:407-1618531200-1618617599@www.aspiringmindsmontessori.com
SUMMARY:Gardening Day
DESCRIPTION:
URL:https://www.aspiringmindsmontessori.com/event/gardening-day/
CATEGORIES:Children
END:VEVENT
BEGIN:VEVENT
DTSTART;VALUE=DATE:20210324
DTEND;VALUE=DATE:20210326
DTSTAMP:20260422T084607
CREATED:20170830T034130Z
LAST-MODIFIED:20200828T192956Z
UID:401-1616544000-1616716799@www.aspiringmindsmontessori.com
SUMMARY:Follow Your Child
DESCRIPTION:
URL:https://www.aspiringmindsmontessori.com/event/mec-vision-hearing-spring-screening/
CATEGORIES:Children
END:VEVENT
BEGIN:VEVENT
DTSTART;VALUE=DATE:20210225
DTEND;VALUE=DATE:20210226
DTSTAMP:20260422T084607
CREATED:20160830T194330Z
LAST-MODIFIED:20200828T193112Z
UID:161-1614211200-1614297599@www.aspiringmindsmontessori.com
SUMMARY:Celebrations Around the World
DESCRIPTION:
URL:https://www.aspiringmindsmontessori.com/event/costume-parade/
CATEGORIES:Children
END:VEVENT
BEGIN:VEVENT
DTSTART;VALUE=DATE:20210128
DTEND;VALUE=DATE:20210129
DTSTAMP:20260422T084607
CREATED:20170830T035131Z
LAST-MODIFIED:20200828T201118Z
UID:417-1611792000-1611878399@www.aspiringmindsmontessori.com
SUMMARY:Curriculum Night
DESCRIPTION:
URL:https://www.aspiringmindsmontessori.com/event/fathers-day-celebration-2/
CATEGORIES:Children
END:VEVENT
BEGIN:VEVENT
DTSTART;VALUE=DATE:20200924
DTEND;VALUE=DATE:20200925
DTSTAMP:20260422T084607
CREATED:20170830T031728Z
LAST-MODIFIED:20200828T201033Z
UID:374-1600905600-1600991999@www.aspiringmindsmontessori.com
SUMMARY:Curriculum Night
DESCRIPTION:
URL:https://www.aspiringmindsmontessori.com/event/picture-days/
CATEGORIES:Children
END:VEVENT
BEGIN:VEVENT
DTSTART;VALUE=DATE:20170919
DTEND;VALUE=DATE:20170921
DTSTAMP:20260422T084607
CREATED:20170830T031551Z
LAST-MODIFIED:20170830T035908Z
UID:370-1505779200-1505951999@www.aspiringmindsmontessori.com
SUMMARY:MEC Vision & Hearing - Fall Screening
DESCRIPTION:
URL:https://www.aspiringmindsmontessori.com/event/mec-vision-hearing-fall-screening/
CATEGORIES:Children
END:VEVENT
BEGIN:VEVENT
DTSTART;VALUE=DATE:20170414
DTEND;VALUE=DATE:20170415
DTSTAMP:20260422T084607
CREATED:20160830T194943Z
LAST-MODIFIED:20160830T194943Z
UID:191-1492128000-1492214399@www.aspiringmindsmontessori.com
SUMMARY:Spring Frolic
DESCRIPTION:
URL:https://www.aspiringmindsmontessori.com/event/spring-frolic/
CATEGORIES:Children
END:VEVENT
BEGIN:VEVENT
DTSTART;VALUE=DATE:20170221
DTEND;VALUE=DATE:20170222
DTSTAMP:20260422T084607
CREATED:20160830T194852Z
LAST-MODIFIED:20160830T194852Z
UID:187-1487635200-1487721599@www.aspiringmindsmontessori.com
SUMMARY:Vision & Hearing Screening
DESCRIPTION:
URL:https://www.aspiringmindsmontessori.com/event/vision-hearing-screening-2/
CATEGORIES:Children
END:VEVENT
BEGIN:VEVENT
DTSTART;VALUE=DATE:20161216
DTEND;VALUE=DATE:20161217
DTSTAMP:20260422T084607
CREATED:20160830T194605Z
LAST-MODIFIED:20160830T194605Z
UID:173-1481846400-1481932799@www.aspiringmindsmontessori.com
SUMMARY:Classroom Party
DESCRIPTION:
URL:https://www.aspiringmindsmontessori.com/event/classroom-party/
CATEGORIES:Children
END:VEVENT
BEGIN:VEVENT
DTSTART;VALUE=DATE:20161209
DTEND;VALUE=DATE:20161210
DTSTAMP:20260422T084607
CREATED:20160830T194543Z
LAST-MODIFIED:20160830T194543Z
UID:171-1481241600-1481327999@www.aspiringmindsmontessori.com
SUMMARY:Ornament Making
DESCRIPTION:
URL:https://www.aspiringmindsmontessori.com/event/ornament-making/
CATEGORIES:Children
END:VEVENT
BEGIN:VEVENT
DTSTART;VALUE=DATE:20161118
DTEND;VALUE=DATE:20161119
DTSTAMP:20260422T084607
CREATED:20160830T194355Z
LAST-MODIFIED:20160830T194355Z
UID:163-1479427200-1479513599@www.aspiringmindsmontessori.com
SUMMARY:Thanksgiving Lunch
DESCRIPTION:
URL:https://www.aspiringmindsmontessori.com/event/thanksgiving-lunch/
CATEGORIES:Children
END:VEVENT
BEGIN:VEVENT
DTSTART;VALUE=DATE:20160920
DTEND;VALUE=DATE:20160922
DTSTAMP:20260422T084607
CREATED:20160830T194305Z
LAST-MODIFIED:20160830T194305Z
UID:159-1474329600-1474502399@www.aspiringmindsmontessori.com
SUMMARY:Vision & Hearing Screening
DESCRIPTION:
URL:https://www.aspiringmindsmontessori.com/event/vision-hearing-screening/
CATEGORIES:Children
END:VEVENT
END:VCALENDAR